BEGIN:VCALENDAR
VERSION:2.0
PRODID:-//Forstenried in München - ECPv6.15.20//NONSGML v1.0//EN
CALSCALE:GREGORIAN
METHOD:PUBLISH
X-WR-CALNAME:Forstenried in München
X-ORIGINAL-URL:https://forstenried.de
X-WR-CALDESC:Veranstaltungen für Forstenried in München
REFRESH-INTERVAL;VALUE=DURATION:PT1H
X-Robots-Tag:noindex
X-PUBLISHED-TTL:PT1H
BEGIN:VTIMEZONE
TZID:Europe/Helsinki
BEGIN:DAYLIGHT
TZOFFSETFROM:+0200
TZOFFSETTO:+0300
TZNAME:EEST
DTSTART:20200329T010000
END:DAYLIGHT
BEGIN:STANDARD
TZOFFSETFROM:+0300
TZOFFSETTO:+0200
TZNAME:EET
DTSTART:20201025T010000
END:STANDARD
BEGIN:DAYLIGHT
TZOFFSETFROM:+0200
TZOFFSETTO:+0300
TZNAME:EEST
DTSTART:20210328T010000
END:DAYLIGHT
BEGIN:STANDARD
TZOFFSETFROM:+0300
TZOFFSETTO:+0200
TZNAME:EET
DTSTART:20211031T010000
END:STANDARD
BEGIN:DAYLIGHT
TZOFFSETFROM:+0200
TZOFFSETTO:+0300
TZNAME:EEST
DTSTART:20220327T010000
END:DAYLIGHT
BEGIN:STANDARD
TZOFFSETFROM:+0300
TZOFFSETTO:+0200
TZNAME:EET
DTSTART:20221030T010000
END:STANDARD
END:VTIMEZONE
BEGIN:VEVENT
DTSTART;TZID=Europe/Helsinki:20210626T100000
DTEND;TZID=Europe/Helsinki:20210626T190000
DTSTAMP:20260425T144622
CREATED:20210615T085355Z
LAST-MODIFIED:20210615T085355Z
UID:845-1624701600-1624734000@forstenried.de
SUMMARY:Bürgerwerkstatt für Forstenried
DESCRIPTION:Am Samstag\, 26. Juni 2021 findet von 10.00 bis 19.00 Uhr im Pfarrsaal von Hl. Kreuz eine Bürgerwerkstatt für Forstenried statt.  Alle Forstenriederinnen und Forstenrieder sind aufgerufen\, Anregungen für Verbesserungen und zur Verschönerung des Dorfkerns im Pfarrsaal von Hl. Kreuz vorzutragen oder schriftlich an die Pinnwände zu heften. \nDie Werkstatt wird von der Landschaftsarchitektin Andrea Gebhard geleitet und begleitet und auch die Mitglieder des Bezirksausschuss 19 werden die Vorschläge entgegen nehmen und Auskunft geben. Am 2. Oktober werden dann die in der Zwischenzeit von Frau Gebhard evtl. ergänzten und auf Realisierbarkeit geprüften Vorschläge mit den Forstenriederinnen und Forstenriedern diskutiert. \nWegen der Pandemievorschriften dürfen im Gemeindesaal jeweils nur max. 40 Personen gleichzeitg anwesend sein. Auch das Tragen einer Maske ist erforderlich.
URL:https://forstenried.de/event/buergerwerkstatt-fuer-forstenried/
LOCATION:Pfarrsaal Hl. Kreuz\, Forstenrieder Allee 180\, München
END:VEVENT
END:VCALENDAR