BEGIN:VCALENDAR
VERSION:2.0
PRODID:-//Forstenried in München - ECPv6.15.20//NONSGML v1.0//EN
CALSCALE:GREGORIAN
METHOD:PUBLISH
X-ORIGINAL-URL:https://forstenried.de
X-WR-CALDESC:Veranstaltungen für Forstenried in München
REFRESH-INTERVAL;VALUE=DURATION:PT1H
X-Robots-Tag:noindex
X-PUBLISHED-TTL:PT1H
BEGIN:VTIMEZONE
TZID:Europe/Helsinki
BEGIN:DAYLIGHT
TZOFFSETFROM:+0200
TZOFFSETTO:+0300
TZNAME:EEST
DTSTART:20200329T010000
END:DAYLIGHT
BEGIN:STANDARD
TZOFFSETFROM:+0300
TZOFFSETTO:+0200
TZNAME:EET
DTSTART:20201025T010000
END:STANDARD
BEGIN:DAYLIGHT
TZOFFSETFROM:+0200
TZOFFSETTO:+0300
TZNAME:EEST
DTSTART:20210328T010000
END:DAYLIGHT
BEGIN:STANDARD
TZOFFSETFROM:+0300
TZOFFSETTO:+0200
TZNAME:EET
DTSTART:20211031T010000
END:STANDARD
BEGIN:DAYLIGHT
TZOFFSETFROM:+0200
TZOFFSETTO:+0300
TZNAME:EEST
DTSTART:20220327T010000
END:DAYLIGHT
BEGIN:STANDARD
TZOFFSETFROM:+0300
TZOFFSETTO:+0200
TZNAME:EET
DTSTART:20221030T010000
END:STANDARD
END:VTIMEZONE
BEGIN:VEVENT
DTSTART;TZID=Europe/Helsinki:20210704T103000
DTEND;TZID=Europe/Helsinki:20210704T113000
DTSTAMP:20260425T133829
CREATED:20140418T120617Z
LAST-MODIFIED:20240501T114556Z
UID:223-1625394600-1625398200@forstenried.de
SUMMARY:Waldmesse
DESCRIPTION:Am Sonntag\, 4. Juli 2021 um 10.30 Uhr findet wieder unsere traditionelle Waldmesse im Forstenrieder Park statt.\n\nSie wird aufgrund der noch bestehenden Beschränkungen für Vereine von der Pfarrei Hl. Kreuz ausgerichtet.\nAuch einige Vereine werden mit ihren Fahnenabordnungen mit dabei sein.\n\nNach den gültigen Pandemiebestimmungen ist die Zahl der Teilnehmer auf 200 begrenzt (Stand 19.6.2021).\n\n \n\nMerken
URL:https://forstenried.de/event/waldmesse/
LOCATION:Eichenwiese im Forstenrieder Park
END:VEVENT
END:VCALENDAR