BEGIN:VCALENDAR
VERSION:2.0
PRODID:-//Forstenried in München - ECPv6.15.20//NONSGML v1.0//EN
CALSCALE:GREGORIAN
METHOD:PUBLISH
X-ORIGINAL-URL:https://forstenried.de
X-WR-CALDESC:Veranstaltungen für Forstenried in München
REFRESH-INTERVAL;VALUE=DURATION:PT1H
X-Robots-Tag:noindex
X-PUBLISHED-TTL:PT1H
BEGIN:VTIMEZONE
TZID:Europe/Berlin
BEGIN:DAYLIGHT
TZOFFSETFROM:+0100
TZOFFSETTO:+0200
TZNAME:CEST
DTSTART:20220327T010000
END:DAYLIGHT
BEGIN:STANDARD
TZOFFSETFROM:+0200
TZOFFSETTO:+0100
TZNAME:CET
DTSTART:20221030T010000
END:STANDARD
BEGIN:DAYLIGHT
TZOFFSETFROM:+0100
TZOFFSETTO:+0200
TZNAME:CEST
DTSTART:20230326T010000
END:DAYLIGHT
BEGIN:STANDARD
TZOFFSETFROM:+0200
TZOFFSETTO:+0100
TZNAME:CET
DTSTART:20231029T010000
END:STANDARD
BEGIN:DAYLIGHT
TZOFFSETFROM:+0100
TZOFFSETTO:+0200
TZNAME:CEST
DTSTART:20240331T010000
END:DAYLIGHT
BEGIN:STANDARD
TZOFFSETFROM:+0200
TZOFFSETTO:+0100
TZNAME:CET
DTSTART:20241027T010000
END:STANDARD
END:VTIMEZONE
BEGIN:VEVENT
DTSTART;TZID=Europe/Berlin:20230615T170000
DTEND;TZID=Europe/Berlin:20230621T170000
DTSTAMP:20260424T071218
CREATED:20230427T114207Z
LAST-MODIFIED:20230518T164002Z
UID:1079-1686848400-1687366800@forstenried.de
SUMMARY:Stadtteilwoche 2023
DESCRIPTION:Von Donnerstag\, 15. Juni 2023 bis Mittwoch 21. Juni 2023 findet im Münchner Süden wieder einmal eine Stadtteilwoche statt. Alle Vereine und Organisationen waren dazu aufgerufen\, sich an dieser Kulturveranstaltung mit ihren individuellen Angebote zu beteiligen.Darüberhinaus hat das Kultureferat der Stadt für ein interessantes und abwechslungsreiches Rahmenprogramm gesorgt. \n\n\n\nAlle Informationen zu den geplanten Veranstaltungen können jetzt aufgerufen werden: \n\n\n\nStadtteilwoche 2023
URL:https://forstenried.de/event/stadtteilwoche-2023/
CATEGORIES:Stadtteilwoche
ATTACH;FMTTYPE=image/jpeg:https://forstenried.de/wp-content/uploads/2023/05/Stadtteilwoche-Plakat-2023-800.jpg
END:VEVENT
END:VCALENDAR