BEGIN:VCALENDAR
VERSION:2.0
PRODID:-//Forstenried in München - ECPv6.15.20//NONSGML v1.0//EN
CALSCALE:GREGORIAN
METHOD:PUBLISH
X-ORIGINAL-URL:https://forstenried.de
X-WR-CALDESC:Veranstaltungen für Forstenried in München
REFRESH-INTERVAL;VALUE=DURATION:PT1H
X-Robots-Tag:noindex
X-PUBLISHED-TTL:PT1H
BEGIN:VTIMEZONE
TZID:Europe/Berlin
BEGIN:DAYLIGHT
TZOFFSETFROM:+0100
TZOFFSETTO:+0200
TZNAME:CEST
DTSTART:20220327T010000
END:DAYLIGHT
BEGIN:STANDARD
TZOFFSETFROM:+0200
TZOFFSETTO:+0100
TZNAME:CET
DTSTART:20221030T010000
END:STANDARD
BEGIN:DAYLIGHT
TZOFFSETFROM:+0100
TZOFFSETTO:+0200
TZNAME:CEST
DTSTART:20230326T010000
END:DAYLIGHT
BEGIN:STANDARD
TZOFFSETFROM:+0200
TZOFFSETTO:+0100
TZNAME:CET
DTSTART:20231029T010000
END:STANDARD
BEGIN:DAYLIGHT
TZOFFSETFROM:+0100
TZOFFSETTO:+0200
TZNAME:CEST
DTSTART:20240331T010000
END:DAYLIGHT
BEGIN:STANDARD
TZOFFSETFROM:+0200
TZOFFSETTO:+0100
TZNAME:CET
DTSTART:20241027T010000
END:STANDARD
END:VTIMEZONE
BEGIN:VEVENT
DTSTART;TZID=Europe/Berlin:20231026T170000
DTEND;TZID=Europe/Berlin:20231105T160000
DTSTAMP:20260424T001604
CREATED:20231018T133403Z
LAST-MODIFIED:20231018T133404Z
UID:1123-1698339600-1699200000@forstenried.de
SUMMARY:Bücher - Markt von treff und tee
DESCRIPTION:Der traditionelle große Bücherflohmarkt 4./5. November wirft seine Schatten voraus: \n \nDer Bürgertreff sucht für seinen Bücherflohmarkt wieder jede Art gut erhaltener Bücher.Willkommen sind  Romane\, Krimis\, Kinderbücher\, Kochbücher\, Bildbände\, Reisebeschreibungen\, Ratgeber\, Sachbücher\, Frauenliteratur\, Antiquariat …  und nicht zuletzt natürlich auch Humor. \n \nDer Erlös aus den Bücherspenden ist für die Mutter-Kind-Arbeit bestimmt. \n \nTermine für die Annahme der Bücherspenden: Do 26.10.+ Fr 27.10. 17 – 19.00\, Mo 30.10. + Di 31.10. 9 – 12.00 + 17 – 19.00\,   Do 2.11. 9 – 12.oo Uhr \n \n \nUnd dann ist endlich wieder Bücher – Markt: \n \nAm Samstag\, 4.11. von 11-18.00und Sonntag 5.11. 2023 von 11-16.00 Uhr ( Sonntag jedes Buch 1 €\, TB 50 Cent )können alle \, die Bücher lieben\, bei uns fündig werden. \n \nDie letzten Jahrzehnte hatten wir im Angebot große  Mengen an gut erhaltenen Büchern aller Art. Übersichtlich nach Bereichen sortiert haben sie als Begleitung für lange Herbst- Winterabende viele Lesebegeisterte beglückt.Bei unseren günstigen Preisen wurde meist mehr als ein Buch mitgenommen. \n \nDie „Bücherwürmer“ freuen sich jetzt schon auf entspannte Abende\, eingewickelt in eine kuschelige Decke mit den neuen Schmökern auf dem Sofa liegend. \n \nDer Bürgertreff ist erreichbar mit U3 (Forstenrieder Allee)\, Busse 132 und 63Adresse:Bürgertreff München Süd\, treff+tee e.V.\,Forstenrieder Allee 65b\,81476 Müncheninfo@treff-und-tee.dewww.treff-und-tee.de
URL:https://forstenried.de/event/buecher-markt-von-treff-und-tee/
END:VEVENT
END:VCALENDAR