BEGIN:VCALENDAR
VERSION:2.0
PRODID:-//Forstenried in München - ECPv6.15.20//NONSGML v1.0//EN
CALSCALE:GREGORIAN
METHOD:PUBLISH
X-ORIGINAL-URL:https://forstenried.de
X-WR-CALDESC:Veranstaltungen für Forstenried in München
REFRESH-INTERVAL;VALUE=DURATION:PT1H
X-Robots-Tag:noindex
X-PUBLISHED-TTL:PT1H
BEGIN:VTIMEZONE
TZID:Europe/Berlin
BEGIN:DAYLIGHT
TZOFFSETFROM:+0100
TZOFFSETTO:+0200
TZNAME:CEST
DTSTART:20220327T010000
END:DAYLIGHT
BEGIN:STANDARD
TZOFFSETFROM:+0200
TZOFFSETTO:+0100
TZNAME:CET
DTSTART:20221030T010000
END:STANDARD
BEGIN:DAYLIGHT
TZOFFSETFROM:+0100
TZOFFSETTO:+0200
TZNAME:CEST
DTSTART:20230326T010000
END:DAYLIGHT
BEGIN:STANDARD
TZOFFSETFROM:+0200
TZOFFSETTO:+0100
TZNAME:CET
DTSTART:20231029T010000
END:STANDARD
BEGIN:DAYLIGHT
TZOFFSETFROM:+0100
TZOFFSETTO:+0200
TZNAME:CEST
DTSTART:20240331T010000
END:DAYLIGHT
BEGIN:STANDARD
TZOFFSETFROM:+0200
TZOFFSETTO:+0100
TZNAME:CET
DTSTART:20241027T010000
END:STANDARD
END:VTIMEZONE
BEGIN:VEVENT
DTSTART;TZID=Europe/Berlin:20231111T140000
DTEND;TZID=Europe/Berlin:20231111T180000
DTSTAMP:20260424T001711
CREATED:20231030T214032Z
LAST-MODIFIED:20231030T214032Z
UID:1130-1699711200-1699725600@forstenried.de
SUMMARY:Upcycling Häkelworkshop
DESCRIPTION:  \n\n\n\nAlten T-Shirts ein 2. Leben schenken – das ist das Motto des Häkelworkshops bei treff & tee. \n\n\n\nDie Shirts werden zerschnitten und zu praktischen Körbchen verhäkelt. \n\n\n\nBitte bringt mindestens ein altes Shirt mit und meldet euch vorher an. \n\n\n\n  \n\n\n\n\n\n\n\n\n\n\n\n\n\n\n\n\n\n \n\n\n\n\n\n  \n\n\n\n \n\n\n\n \n\n\n\n 
URL:https://forstenried.de/event/upcycling-haekelworkshop/
ORGANIZER;CN="B%C3%BCrgertreff M%C3%BCnchen S%C3%BCd treff & tee e. V.":MAILTO:info@treff-und-tee.de
END:VEVENT
END:VCALENDAR