BEGIN:VCALENDAR
VERSION:2.0
PRODID:-//Forstenried in München - ECPv6.15.20//NONSGML v1.0//EN
CALSCALE:GREGORIAN
METHOD:PUBLISH
X-ORIGINAL-URL:https://forstenried.de
X-WR-CALDESC:Veranstaltungen für Forstenried in München
REFRESH-INTERVAL;VALUE=DURATION:PT1H
X-Robots-Tag:noindex
X-PUBLISHED-TTL:PT1H
BEGIN:VTIMEZONE
TZID:Europe/Berlin
BEGIN:DAYLIGHT
TZOFFSETFROM:+0100
TZOFFSETTO:+0200
TZNAME:CEST
DTSTART:20230326T010000
END:DAYLIGHT
BEGIN:STANDARD
TZOFFSETFROM:+0200
TZOFFSETTO:+0100
TZNAME:CET
DTSTART:20231029T010000
END:STANDARD
BEGIN:DAYLIGHT
TZOFFSETFROM:+0100
TZOFFSETTO:+0200
TZNAME:CEST
DTSTART:20240331T010000
END:DAYLIGHT
BEGIN:STANDARD
TZOFFSETFROM:+0200
TZOFFSETTO:+0100
TZNAME:CET
DTSTART:20241027T010000
END:STANDARD
BEGIN:DAYLIGHT
TZOFFSETFROM:+0100
TZOFFSETTO:+0200
TZNAME:CEST
DTSTART:20250330T010000
END:DAYLIGHT
BEGIN:STANDARD
TZOFFSETFROM:+0200
TZOFFSETTO:+0100
TZNAME:CET
DTSTART:20251026T010000
END:STANDARD
END:VTIMEZONE
BEGIN:VEVENT
DTSTART;TZID=Europe/Berlin:20240707T103000
DTEND;TZID=Europe/Berlin:20240707T120000
DTSTAMP:20260423T131950
CREATED:20240501T125000Z
LAST-MODIFIED:20240503T120403Z
UID:1217-1720348200-1720353600@forstenried.de
SUMMARY:Waldmesse 2024
DESCRIPTION:Am Sonntag\, 7. Juli 2024\, findet ab 10.30 Uhr unsere traditionelle Waldmesse im Forstenrieder Park statt.Teilnehmer sind die in Forstenried ansässigen Vereine mit ihren Fahnenträgern sowie befreundet Vereine.
URL:https://forstenried.de/event/waldmesse-2024/
LOCATION:Gottesdienstwiese – Kreuzbichl\, Warnberger Weg\, Forstenried\, Bayern\, 81476\, Deutschland
CATEGORIES:Feiertag
ATTACH;FMTTYPE=image/png:https://forstenried.de/wp-content/uploads/2024/05/GD-Wiese-Schild-1600-460.png
END:VEVENT
END:VCALENDAR