BEGIN:VCALENDAR
VERSION:2.0
PRODID:-//Forstenried in München - ECPv6.15.20//NONSGML v1.0//EN
CALSCALE:GREGORIAN
METHOD:PUBLISH
X-WR-CALNAME:Forstenried in München
X-ORIGINAL-URL:https://forstenried.de
X-WR-CALDESC:Veranstaltungen für Forstenried in München
REFRESH-INTERVAL;VALUE=DURATION:PT1H
X-Robots-Tag:noindex
X-PUBLISHED-TTL:PT1H
BEGIN:VTIMEZONE
TZID:Europe/Berlin
BEGIN:DAYLIGHT
TZOFFSETFROM:+0100
TZOFFSETTO:+0200
TZNAME:CEST
DTSTART:20230326T010000
END:DAYLIGHT
BEGIN:STANDARD
TZOFFSETFROM:+0200
TZOFFSETTO:+0100
TZNAME:CET
DTSTART:20231029T010000
END:STANDARD
BEGIN:DAYLIGHT
TZOFFSETFROM:+0100
TZOFFSETTO:+0200
TZNAME:CEST
DTSTART:20240331T010000
END:DAYLIGHT
BEGIN:STANDARD
TZOFFSETFROM:+0200
TZOFFSETTO:+0100
TZNAME:CET
DTSTART:20241027T010000
END:STANDARD
BEGIN:DAYLIGHT
TZOFFSETFROM:+0100
TZOFFSETTO:+0200
TZNAME:CEST
DTSTART:20250330T010000
END:DAYLIGHT
BEGIN:STANDARD
TZOFFSETFROM:+0200
TZOFFSETTO:+0100
TZNAME:CET
DTSTART:20251026T010000
END:STANDARD
END:VTIMEZONE
BEGIN:VEVENT
DTSTART;TZID=Europe/Berlin:20241115T183000
DTEND;TZID=Europe/Berlin:20241117T223000
DTSTAMP:20260423T210928
CREATED:20241103T170312Z
LAST-MODIFIED:20241103T170313Z
UID:1295-1731695400-1731882600@forstenried.de
SUMMARY:d’Forstenriada: Ein Fall mit Zwischenfällen
DESCRIPTION:Zum Inhalt:\n\n\n\nDer erfolgreiche Autor Herbert\, befindet sich seit geraumer Zeit in einer Schaffenskrise. Eine Schreibblockade macht ihm zu schaffen. Um an neue Ideen zu kommen ist ihm jedes Mittel recht. Doch es will einfach nicht klappen. Seine Frau und seine Freunde machen sich Sorgen um ihn. Sie wollen ihm helfen. Da haben sie die rettende Idee. Wird Herbert mit dieser Idee aus der Krise kommen oder wird alles noch schlimmer? \n\n\n\nCharly Gallenz hat Schwyzerdütsch-Besonderheiten ins Hochdeutsche übersetzt. Gespielt wird aber – in alter Tradition – natürlich wieder in Bayrisch. \n\n\n\nProbenbeginn: 2. September 2024 um 19:00 Uhr. Ab 16.09. bis 06.11.2024 wird immer montags und mittwochs geprobt. \n\n\n\nWer mal bei uns vorbeischauen möchte\, ist herzlich willkommen. \n\n\n\nAlso\, bleiben Sie uns treu\, kommen Sie wieder und bringen Sie viele neue Gäste mit. Der Kartenvorverkauf ist am 2. Oktober 2024 gestartet (Es gilt wie seit Jahren die Sitzplätze werden von vorne nach hinten vergeben) \n\n\n\n\n\n\n\n\n\n\n\nDie Personen und ihre Darsteller\n\n\n\nHerbert Züge (Krimiautor mit Schreibblockade)Josef GieblSabine Züge (Ehefrau)Hanni DietscheJulia Schmidt (geb. Züge – (Tochter)Nicole WechslerMaria (Hausangestellte)Johanna HaberlanderSebastian (Freund von Julia)Michael WestermayerFranz Bruckner (Bruder von Sabine)Charly GallenzRosa (Gärtnerin)Michaela KässKarl Obermeier (Freund von Maria)Hans Dietl\n\n\n\nVor und hinter der Bühne\n\n\n\nRegieCharly Gallenz\, Dieter BrandlRegieassistenzKarin PetrySouffleuse u. RequisiteKarin PetryMaskeSilvia GieblRequisite u. TechnikCaro HofmannTechnikSiegfried HofmannKartenvorverkauf/KasseJohanna Haberlander\, Barbara Förster\, Petra Ruderer\n\n\n\n \n\n\n\n\n\n\n\nDie Spieltermine\n\n\n\nTagDatumBeginnEinlassFreitag08.11.2420:00 Uhr18:30 UhrFreitag15.11.2420:00 Uhr18:30 UhrSamstag16.11.2419:30 Uhr18:00 UhrSonnstag17.11.2413:30 Uhr12:00 UhrFreitag22.11.2420:00 Uhr18:30 UhrSamstag23.11.2419:30 Uhr18:00 Uhr
URL:https://forstenried.de/event/dforstenriada-ein-fall-mit-zwischenfaellen-2/
LOCATION:Bürgersaal Fürstenried\, Züricher Str. 35\, München\, Bayern\, 81476\, Deutschland
CATEGORIES:Theater
ATTACH;FMTTYPE=image/png:https://forstenried.de/wp-content/uploads/2024/11/Logo-Forstenriada.png
END:VEVENT
END:VCALENDAR