BEGIN:VCALENDAR
VERSION:2.0
PRODID:-//Forstenried in München - ECPv6.15.20//NONSGML v1.0//EN
CALSCALE:GREGORIAN
METHOD:PUBLISH
X-ORIGINAL-URL:https://forstenried.de
X-WR-CALDESC:Veranstaltungen für Forstenried in München
REFRESH-INTERVAL;VALUE=DURATION:PT1H
X-Robots-Tag:noindex
X-PUBLISHED-TTL:PT1H
BEGIN:VTIMEZONE
TZID:Europe/Berlin
BEGIN:DAYLIGHT
TZOFFSETFROM:+0100
TZOFFSETTO:+0200
TZNAME:CEST
DTSTART:20230326T010000
END:DAYLIGHT
BEGIN:STANDARD
TZOFFSETFROM:+0200
TZOFFSETTO:+0100
TZNAME:CET
DTSTART:20231029T010000
END:STANDARD
BEGIN:DAYLIGHT
TZOFFSETFROM:+0100
TZOFFSETTO:+0200
TZNAME:CEST
DTSTART:20240331T010000
END:DAYLIGHT
BEGIN:STANDARD
TZOFFSETFROM:+0200
TZOFFSETTO:+0100
TZNAME:CET
DTSTART:20241027T010000
END:STANDARD
BEGIN:DAYLIGHT
TZOFFSETFROM:+0100
TZOFFSETTO:+0200
TZNAME:CEST
DTSTART:20250330T010000
END:DAYLIGHT
BEGIN:STANDARD
TZOFFSETFROM:+0200
TZOFFSETTO:+0100
TZNAME:CET
DTSTART:20251026T010000
END:STANDARD
END:VTIMEZONE
BEGIN:VEVENT
DTSTART;TZID=Europe/Berlin:20241206T150000
DTEND;TZID=Europe/Berlin:20241206T163000
DTSTAMP:20260423T224513
CREATED:20241121T203840Z
LAST-MODIFIED:20241121T203951Z
UID:1426-1733497200-1733502600@forstenried.de
SUMMARY:Verkostung am Wildstadl mit Glühwein und Punsch
DESCRIPTION:Der Forstbetrieb München lädt ein zur Verkostung von Produkten aus seinem Wildstadl mit Glühwein und Punsch.Es gibt ausgewählte Produkte aus dem Wildstadl zum Probieren undGlühwein und Kinderpunsch anlässlich des Nikolaus-Tages.Der Verein „Freunde des Forstenrieder Parks e.V.“ informiert über seine Arbeit.
URL:https://forstenried.de/event/verkostung-am-wildstadl-mit-gluehwein-und-punsch/
LOCATION:Forstbetrieb München\, Forstenrieder Allee 182\, 81476 München
END:VEVENT
END:VCALENDAR