BEGIN:VCALENDAR
VERSION:2.0
PRODID:-//Forstenried in München - ECPv6.15.20//NONSGML v1.0//EN
CALSCALE:GREGORIAN
METHOD:PUBLISH
X-WR-CALNAME:Forstenried in München
X-ORIGINAL-URL:https://forstenried.de
X-WR-CALDESC:Veranstaltungen für Forstenried in München
REFRESH-INTERVAL;VALUE=DURATION:PT1H
X-Robots-Tag:noindex
X-PUBLISHED-TTL:PT1H
BEGIN:VTIMEZONE
TZID:Europe/Berlin
BEGIN:DAYLIGHT
TZOFFSETFROM:+0100
TZOFFSETTO:+0200
TZNAME:CEST
DTSTART:20230326T010000
END:DAYLIGHT
BEGIN:STANDARD
TZOFFSETFROM:+0200
TZOFFSETTO:+0100
TZNAME:CET
DTSTART:20231029T010000
END:STANDARD
BEGIN:DAYLIGHT
TZOFFSETFROM:+0100
TZOFFSETTO:+0200
TZNAME:CEST
DTSTART:20240331T010000
END:DAYLIGHT
BEGIN:STANDARD
TZOFFSETFROM:+0200
TZOFFSETTO:+0100
TZNAME:CET
DTSTART:20241027T010000
END:STANDARD
BEGIN:DAYLIGHT
TZOFFSETFROM:+0100
TZOFFSETTO:+0200
TZNAME:CEST
DTSTART:20250330T010000
END:DAYLIGHT
BEGIN:STANDARD
TZOFFSETFROM:+0200
TZOFFSETTO:+0100
TZNAME:CET
DTSTART:20251026T010000
END:STANDARD
END:VTIMEZONE
BEGIN:VEVENT
DTSTART;TZID=Europe/Berlin:20241207T160000
DTEND;TZID=Europe/Berlin:20241207T190000
DTSTAMP:20260423T224146
CREATED:20241121T210929Z
LAST-MODIFIED:20241124T004310Z
UID:1443-1733587200-1733598000@forstenried.de
SUMMARY:Nikolausfeier
DESCRIPTION:Die Freunde des Ortskerns Forstenried und die Feuerwehr München – Abteilung Forstenried laden zur Nikolausfeier ein.\n\n\n\n\n\n\n\nDer Nikolaus bringt Engelchen\, ein großes Feuerwehrauto und einen großen Sack voll Süßigkeiten mit. \n\n\n\nFestliche Blasmusik\, ein offenes Feuer zum Aufwärmen und der Duftvon Kinderpunsch\, Glühwein aber auch von Bratwürsten verbreiten Christkindlmarktatmosphäre und Weihnachtsstimmung. \n\n\n\n\nHier der Flyer mit den detaillierten Angaben zu Ort\, Zeit\, Veranstalter und Ablauf der Feier.
URL:https://forstenried.de/event/nikolausfeier-2/
LOCATION:Dorfkern Forstenried\, hinterm Kriegerdenkmal\, Forstenrieder Allee 184\, München
ATTACH;FMTTYPE=image/jpeg:https://forstenried.de/wp-content/uploads/2024/11/Nikolaus-Forstenried-mTxtm.jpg
END:VEVENT
END:VCALENDAR