BEGIN:VCALENDAR
VERSION:2.0
PRODID:-//Forstenried in München - ECPv6.15.20//NONSGML v1.0//EN
CALSCALE:GREGORIAN
METHOD:PUBLISH
X-WR-CALNAME:Forstenried in München
X-ORIGINAL-URL:https://forstenried.de
X-WR-CALDESC:Veranstaltungen für Forstenried in München
REFRESH-INTERVAL;VALUE=DURATION:PT1H
X-Robots-Tag:noindex
X-PUBLISHED-TTL:PT1H
BEGIN:VTIMEZONE
TZID:Europe/Berlin
BEGIN:DAYLIGHT
TZOFFSETFROM:+0100
TZOFFSETTO:+0200
TZNAME:CEST
DTSTART:20240331T010000
END:DAYLIGHT
BEGIN:STANDARD
TZOFFSETFROM:+0200
TZOFFSETTO:+0100
TZNAME:CET
DTSTART:20241027T010000
END:STANDARD
BEGIN:DAYLIGHT
TZOFFSETFROM:+0100
TZOFFSETTO:+0200
TZNAME:CEST
DTSTART:20250330T010000
END:DAYLIGHT
BEGIN:STANDARD
TZOFFSETFROM:+0200
TZOFFSETTO:+0100
TZNAME:CET
DTSTART:20251026T010000
END:STANDARD
BEGIN:DAYLIGHT
TZOFFSETFROM:+0100
TZOFFSETTO:+0200
TZNAME:CEST
DTSTART:20260329T010000
END:DAYLIGHT
BEGIN:STANDARD
TZOFFSETFROM:+0200
TZOFFSETTO:+0100
TZNAME:CET
DTSTART:20261025T010000
END:STANDARD
END:VTIMEZONE
BEGIN:VEVENT
DTSTART;TZID=Europe/Berlin:20250228T190000
DTEND;TZID=Europe/Berlin:20250228T230000
DTSTAMP:20260424T013454
CREATED:20241207T021532Z
LAST-MODIFIED:20250221T105045Z
UID:1471-1740769200-1740783600@forstenried.de
SUMMARY:Faschingsball 2025 im Bürgersaal
DESCRIPTION:Wegen des Anschlags am Stiglmeierplatz am vergangenen Donnerstag hat die Stadt München gebeten alle Vergnügungsveranstaltungen bis 25. Februar abzusagen.Wir wollen dem Wunsch nachkommen und verschieben unseren Faschingsball auf den 28. Februar. \n\n\n\nAuch in 2025 möchten wir wieder unseren Tanzabend in der Faschingszeit für alle Vereinsmitglieder des TSV im Bürgersaal abhalten.Darüber hinaus möchten wir auch wie beim letzten Tag der offenen Tür alle aus der Nachbarschaft einladen\, die mittanzen möchten.Getanzt werden alle 10 Gesellschaftstänze und einige Modetänze wie Salsa oder Discofox. \n\n\n\nDer Abend wird wieder zusammen mit der Tanzsportabteilung des MTV abgehalten. \n\n\n\nDer Beginn ist 19:00 Uhr\,  Ende der Veranstaltung nicht viel länger als 23:00 Uhr. \n\n\n\nEine kurze Rückmeldung\, wer Interesse hat zu kommen\, erleichtert unsere Planung. \n\n\n\nWer zu dieser Zeit noch nicht kommen kann\, kann jederzeit auch später dazustoßen.Ihr seit nicht verpflichtet euch zu kostümieren\, gute Laune reicht. \n\n\n\nFür Speisen und Getränke sorgt das Personal der Gaststätte Gushu im Bürgersaal.
URL:https://forstenried.de/event/faschingsball-2025-im-buergersaal/
LOCATION:Bürgersaal Fürstenried\, Züricher Str. 35\, München\, Bayern\, 81476\, Deutschland
CATEGORIES:Tanzabend
ATTACH;FMTTYPE=image/jpeg:https://forstenried.de/wp-content/uploads/2024/12/Fasching-Paar-2025upd.jpg
ORGANIZER;CN="TSV Forstenried":MAILTO:info@tsv-forstenried.de
END:VEVENT
END:VCALENDAR