BEGIN:VCALENDAR
VERSION:2.0
PRODID:-//Forstenried in München - ECPv6.15.20//NONSGML v1.0//EN
CALSCALE:GREGORIAN
METHOD:PUBLISH
X-WR-CALNAME:Forstenried in München
X-ORIGINAL-URL:https://forstenried.de
X-WR-CALDESC:Veranstaltungen für Forstenried in München
REFRESH-INTERVAL;VALUE=DURATION:PT1H
X-Robots-Tag:noindex
X-PUBLISHED-TTL:PT1H
BEGIN:VTIMEZONE
TZID:Europe/Berlin
BEGIN:DAYLIGHT
TZOFFSETFROM:+0100
TZOFFSETTO:+0200
TZNAME:CEST
DTSTART:20240331T010000
END:DAYLIGHT
BEGIN:STANDARD
TZOFFSETFROM:+0200
TZOFFSETTO:+0100
TZNAME:CET
DTSTART:20241027T010000
END:STANDARD
BEGIN:DAYLIGHT
TZOFFSETFROM:+0100
TZOFFSETTO:+0200
TZNAME:CEST
DTSTART:20250330T010000
END:DAYLIGHT
BEGIN:STANDARD
TZOFFSETFROM:+0200
TZOFFSETTO:+0100
TZNAME:CET
DTSTART:20251026T010000
END:STANDARD
BEGIN:DAYLIGHT
TZOFFSETFROM:+0100
TZOFFSETTO:+0200
TZNAME:CEST
DTSTART:20260329T010000
END:DAYLIGHT
BEGIN:STANDARD
TZOFFSETFROM:+0200
TZOFFSETTO:+0100
TZNAME:CET
DTSTART:20261025T010000
END:STANDARD
END:VTIMEZONE
BEGIN:VEVENT
DTSTART;TZID=Europe/Berlin:20250830T100000
DTEND;TZID=Europe/Berlin:20250926T110000
DTSTAMP:20260425T181929
CREATED:20250813T145822Z
LAST-MODIFIED:20250813T150520Z
UID:1534-1756548000-1758884400@forstenried.de
SUMMARY:Second-Hand-Trachtenmarkt
DESCRIPTION:Second-Hand-Trachtenmarkt im Nachbarschaftstreff München Süd \n\n\n\nvon Samstag\, dem 30. August bis Freitag\, dem 26. September 2025 \n\n\n\nVerkauf ist immer: \n\n\n\nmontags 14 – 17 Uhr\, mittwochs 9 – 12 Uhr\, donnerstags 16 – 19 Uhr\,freitags 9 – 11 Uhrund samstags von 10 – 14 Uhr aber nur am 30. August und am 6. September 2025. \n\n\n\nZum Auftakt am Samstag\, den 30. August\, gibt’s von 10 – 12 Uhr Weißwürst. \n\n\n\nTrachtenspenden gesucht! \n\n\n\nWir freuen uns wieder über Spenden von Dirndl\, Blusen\, Lederhosen undallem\, was mit Tracht zu tun hat. \n\n\n\nWir nehmen ab 18. August gut erhaltene Trachten entgegen. \n\n\n\nAbgabe der Trachten:Bis 17.08.: nach telefonischer Vereinbarung(da der treff geschlossen hat und wir nur unregelmäßig da sind)Ab 18.08.: zu unseren Öffnungszeiten:Mo: 9.00-12.00 UhrMi: 9.00-12.00 UhrFr: 9.00-11.00 Uhrund nach Vereinbarung \n\n\n\nDer Erlös des Marktes kommt unserer Arbeit zugute. Vielen Dank! \n\n\n\nAls Zusammenfassung auch gern unseren Flyer Trachtenmarkt zum Herunterladen.
URL:https://forstenried.de/event/second-hand-trachtenmarkt/
LOCATION:treff + tee e.V.\, Forstenrieder Allee 65b\, München\, 81476
CATEGORIES:Flohmarkt
ATTACH;FMTTYPE=image/png:https://forstenried.de/wp-content/uploads/2025/08/Dirndl.png
ORGANIZER;CN="Nachbarschaftstreff M%C3%BCnchen S%C3%BCd":MAILTO:info@treff-und-tee.de
END:VEVENT
BEGIN:VEVENT
DTSTART;TZID=Europe/Berlin:20250926T190000
DTEND;TZID=Europe/Berlin:20250926T230000
DTSTAMP:20260425T181929
CREATED:20250813T151927Z
LAST-MODIFIED:20250813T151927Z
UID:1548-1758913200-1758927600@forstenried.de
SUMMARY:Tanz im Bürgersaal
DESCRIPTION:Die neue Tanzsaison beginnt! \n\n\n\nDieser Termin im Bürgersaal ist der Start in die Tanzsaison 2025 – 2026.Veranstaltet wird der Abend gemeinsam von den Tanzsportabteilungen des TSV Forstenried und des MTV München.Getanzt werden hauptsächlich die 10 Gesellschaftstänze in Standard und Latein\, aber auch einige Modetänze wie Salsa oder Discofox. \n\n\n\nEingeladen sind auch wieder alle Mitglieder des TSV Forstenried und des MTV\, die zwar nicht in der Tanzsportabteilung Mitglied sind\, aber Spaß am Tanzen haben.Ebenfalls auch Menschen aus unserer Nachbarschaft\, die sich für Tanzen interessieren. Sie können sich über die Tanzsportabteilung der Vereine informieren und auch das weitere Abgebot der beiden Vereine kennen lernen.Während die Tanzsportabteilung ihr Angebot auf Paartanz beschränken muss\, bieten MTV und TSV auch andere Möglichkeiten zu tanzen. \n\n\n\nDer Beginn ist 19:00 Uhr\,  Ende der Veranstaltung nicht viel länger als 23:00 Uhr. \n\n\n\nWer um 19:00 Uhr noch nicht kommen kann\, kann jederzeit auch später dazustoßen.
URL:https://forstenried.de/event/tanz-im-buergersaal/
LOCATION:Bürgersaal Fürstenried\, Züricher Str. 35\, München\, Bayern\, 81476\, Deutschland
CATEGORIES:Tanzabend
ATTACH;FMTTYPE=image/jpeg:https://forstenried.de/wp-content/uploads/2025/08/Tango-Tanzpaar.jpg
ORGANIZER;CN="TSV Forstenried Tanzsport":MAILTO:ts-al@tsv-forstenried.de
END:VEVENT
END:VCALENDAR