BEGIN:VCALENDAR
VERSION:2.0
PRODID:-//Forstenried in München - ECPv6.15.20//NONSGML v1.0//EN
CALSCALE:GREGORIAN
METHOD:PUBLISH
X-ORIGINAL-URL:https://forstenried.de
X-WR-CALDESC:Veranstaltungen für Forstenried in München
REFRESH-INTERVAL;VALUE=DURATION:PT1H
X-Robots-Tag:noindex
X-PUBLISHED-TTL:PT1H
BEGIN:VTIMEZONE
TZID:Europe/Helsinki
BEGIN:DAYLIGHT
TZOFFSETFROM:+0200
TZOFFSETTO:+0300
TZNAME:EEST
DTSTART:20190331T010000
END:DAYLIGHT
BEGIN:STANDARD
TZOFFSETFROM:+0300
TZOFFSETTO:+0200
TZNAME:EET
DTSTART:20191027T010000
END:STANDARD
BEGIN:DAYLIGHT
TZOFFSETFROM:+0200
TZOFFSETTO:+0300
TZNAME:EEST
DTSTART:20200329T010000
END:DAYLIGHT
BEGIN:STANDARD
TZOFFSETFROM:+0300
TZOFFSETTO:+0200
TZNAME:EET
DTSTART:20201025T010000
END:STANDARD
BEGIN:DAYLIGHT
TZOFFSETFROM:+0200
TZOFFSETTO:+0300
TZNAME:EEST
DTSTART:20210328T010000
END:DAYLIGHT
BEGIN:STANDARD
TZOFFSETFROM:+0300
TZOFFSETTO:+0200
TZNAME:EET
DTSTART:20211031T010000
END:STANDARD
END:VTIMEZONE
BEGIN:VEVENT
DTSTART;TZID=Europe/Helsinki:20200822T170000
DTEND;TZID=Europe/Helsinki:20200822T220000
DTSTAMP:20260426T031533
CREATED:20200802T190825Z
LAST-MODIFIED:20200802T191004Z
UID:825-1598115600-1598133600@forstenried.de
SUMMARY:Wanderbühne "Sommer in der Stadt"
DESCRIPTION:Die Wanderbühne zieht zwischen Juli und September durch verschiedene Stadtteile. Ein- oder mehrmals pro Woche wird diese an immer wechselnden Plätzen aufgestellt und zum Auftrittsort für lokale Künstler*innen. \nAm Samstag\, den 22. August spielen in der Winterthurerstr. 1 vor der Sparkasse:\n \n17.00 Uhr JB’s First – Rock\, Pop und ein Hauch Funk \n19.00 Uhr Niederbayerischer Musikantenstammtisch – groovige Volksmusik \n21.00 Uhr Quadro Nuevo \nDer Eintritt ist frei\, die Zuschauerzahl ist bei jedem Konzert begrenzt. Auf die Einhaltung der vorgegebenen Hygieneregeln wird geachtet. Die einzelnen Auftritte finden eigenständig und in zeitlichem Abstand zueinander statt\, es handelt sich um kein zusammenhängendes Festivalprogramm. \nEinlass ist jeweils eine Stunde vor Beginn.
URL:https://forstenried.de/event/wanderbuehne-sommer-in-der-stadt/
LOCATION:Winterthurerstr. 1\, Winterthurerstr. 1\, München\, 81476
END:VEVENT
END:VCALENDAR