BEGIN:VCALENDAR
VERSION:2.0
PRODID:-//Forstenried in München - ECPv6.15.20//NONSGML v1.0//EN
CALSCALE:GREGORIAN
METHOD:PUBLISH
X-ORIGINAL-URL:https://forstenried.de
X-WR-CALDESC:Veranstaltungen für Forstenried in München
REFRESH-INTERVAL;VALUE=DURATION:PT1H
X-Robots-Tag:noindex
X-PUBLISHED-TTL:PT1H
BEGIN:VTIMEZONE
TZID:Europe/Berlin
BEGIN:DAYLIGHT
TZOFFSETFROM:+0100
TZOFFSETTO:+0200
TZNAME:CEST
DTSTART:20210328T010000
END:DAYLIGHT
BEGIN:STANDARD
TZOFFSETFROM:+0200
TZOFFSETTO:+0100
TZNAME:CET
DTSTART:20211031T010000
END:STANDARD
BEGIN:DAYLIGHT
TZOFFSETFROM:+0100
TZOFFSETTO:+0200
TZNAME:CEST
DTSTART:20220327T010000
END:DAYLIGHT
BEGIN:STANDARD
TZOFFSETFROM:+0200
TZOFFSETTO:+0100
TZNAME:CET
DTSTART:20221030T010000
END:STANDARD
BEGIN:DAYLIGHT
TZOFFSETFROM:+0100
TZOFFSETTO:+0200
TZNAME:CEST
DTSTART:20230326T010000
END:DAYLIGHT
BEGIN:STANDARD
TZOFFSETFROM:+0200
TZOFFSETTO:+0100
TZNAME:CET
DTSTART:20231029T010000
END:STANDARD
END:VTIMEZONE
BEGIN:VEVENT
DTSTART;TZID=Europe/Berlin:20220626T090000
DTEND;TZID=Europe/Berlin:20220626T170000
DTSTAMP:20260424T220037
CREATED:20220622T131252Z
LAST-MODIFIED:20220622T220531Z
UID:1005-1656234000-1656262800@forstenried.de
SUMMARY:Pfarrfronleichnam\, Sonntag\, 26. Juni 2022
DESCRIPTION:Der Pfarrverband Forstenriedlädt einam Sonntag\, 26. Juni 2022 \n\n\n\nPfarrfronleichnam: \n\n\n\nBeginn: 9:00 Uhr Gottesdienst inSt. Karl Borromäusgleichzeitig Kleinkindergottesdienstim Pfarrheim St. Karl BorromäusProzession: Genfer Platz –Basler Straße – Fritz-Baer-StraßeSTATIO – Forstenrieder Allee –Parkplatz Heilig Kreuz \n\n\n\nPfarrverbandsfest: \n\n\n\nBeginn: ca. 11:30 Uhr in und um das PfarrheimHeilig Kreuz mit \n\n\n\nMittagessen:Fleisch und Würstl vom Grillmit BeilagenFassbier\, GetränkeKaffee- und Kuchen-BüffetKinderfest:ab 12:30 Uhr auf demParkplatz vor demPfarrheimEnde:ca. 17.00 Uhr
URL:https://forstenried.de/event/pfarrfronleichnam-sonntag-26-juni-2022/
LOCATION:St. Karl Borromäus\, Genfer Platz 4\, München\, 81476
CATEGORIES:Feiertag
ATTACH;FMTTYPE=image/png:https://forstenried.de/wp-content/uploads/2022/06/Pfarverband-Forstenried-Emblem-700.png
END:VEVENT
END:VCALENDAR