BEGIN:VCALENDAR
VERSION:2.0
PRODID:-//Forstenried in München - ECPv6.15.20//NONSGML v1.0//EN
CALSCALE:GREGORIAN
METHOD:PUBLISH
X-ORIGINAL-URL:https://forstenried.de
X-WR-CALDESC:Veranstaltungen für Forstenried in München
REFRESH-INTERVAL;VALUE=DURATION:PT1H
X-Robots-Tag:noindex
X-PUBLISHED-TTL:PT1H
BEGIN:VTIMEZONE
TZID:Europe/Berlin
BEGIN:DAYLIGHT
TZOFFSETFROM:+0100
TZOFFSETTO:+0200
TZNAME:CEST
DTSTART:20220327T010000
END:DAYLIGHT
BEGIN:STANDARD
TZOFFSETFROM:+0200
TZOFFSETTO:+0100
TZNAME:CET
DTSTART:20221030T010000
END:STANDARD
BEGIN:DAYLIGHT
TZOFFSETFROM:+0100
TZOFFSETTO:+0200
TZNAME:CEST
DTSTART:20230326T010000
END:DAYLIGHT
BEGIN:STANDARD
TZOFFSETFROM:+0200
TZOFFSETTO:+0100
TZNAME:CET
DTSTART:20231029T010000
END:STANDARD
BEGIN:DAYLIGHT
TZOFFSETFROM:+0100
TZOFFSETTO:+0200
TZNAME:CEST
DTSTART:20240331T010000
END:DAYLIGHT
BEGIN:STANDARD
TZOFFSETFROM:+0200
TZOFFSETTO:+0100
TZNAME:CET
DTSTART:20241027T010000
END:STANDARD
END:VTIMEZONE
BEGIN:VEVENT
DTSTART;TZID=Europe/Berlin:20230702T103000
DTEND;TZID=Europe/Berlin:20230702T120000
DTSTAMP:20260424T043621
CREATED:20230629T091401Z
LAST-MODIFIED:20230629T091403Z
UID:1097-1688293800-1688299200@forstenried.de
SUMMARY:44. Waldmesse
DESCRIPTION:Die Pfarrei Heilig Kreuz Forstenried\, der Veteranen-und Soldatenverein und der Maibaumverein laden ein zur 44. Waldmesse auf der Eichenwiese im Forstenrieder Park. \n\n\n\nDie Vereine marschieren mit ihren Fahnenabordnungen um 10:15 Uhr vom Aufstellungsplatz in Unterdill in einem Festzug zur Eichenwiese.  \n\n\n\nDer Gottesdienst findet bei jeder Witterung statt\, der Kindergottesdienst nur bei guter Witterung.  \n\n\n\nMusikalisch begleiten die Pollinger Blasmusik und die Gilchinger Alphornbläser die Messe. \n\n\n\nFoto: Bernhard Wübert
URL:https://forstenried.de/event/44-waldmesse/
ATTACH;FMTTYPE=image/jpeg:https://forstenried.de/wp-content/uploads/2023/06/Panorama-scaled-e1688029811690.jpg
END:VEVENT
BEGIN:VEVENT
DTSTART;TZID=Europe/Berlin:20230715T110000
DTEND;TZID=Europe/Berlin:20230715T170000
DTSTAMP:20260424T043621
CREATED:20230629T092837Z
LAST-MODIFIED:20230629T092841Z
UID:1102-1689418800-1689440400@forstenried.de
SUMMARY:Tag der offenen Tür
DESCRIPTION:Die Freiwillige Feuerwehr München Abteilung Forstenried lädt ein zum Tag der offenen Tür in die Forstenrieder Allee 177. \n\n\n\nAus dem Programm:Es gibt Einsatzvorführungen\, eine Fahrzeugschau\, einen Infostand mit Beratung\, gezeigt werden auch Erste Hilfe und der Defibrillator\, Uniformen können anprobiert werden und Kinder werden ihren Spaß mit der Spritzwand haben. Für das leibliche Wohl ist auch gesorgt.
URL:https://forstenried.de/event/tag-der-offenen-tuer/
END:VEVENT
END:VCALENDAR