BEGIN:VCALENDAR
VERSION:2.0
PRODID:-//Forstenried in München - ECPv6.15.20//NONSGML v1.0//EN
CALSCALE:GREGORIAN
METHOD:PUBLISH
X-WR-CALNAME:Forstenried in München
X-ORIGINAL-URL:https://forstenried.de
X-WR-CALDESC:Veranstaltungen für Forstenried in München
REFRESH-INTERVAL;VALUE=DURATION:PT1H
X-Robots-Tag:noindex
X-PUBLISHED-TTL:PT1H
BEGIN:VTIMEZONE
TZID:Europe/Berlin
BEGIN:DAYLIGHT
TZOFFSETFROM:+0100
TZOFFSETTO:+0200
TZNAME:CEST
DTSTART:20230326T010000
END:DAYLIGHT
BEGIN:STANDARD
TZOFFSETFROM:+0200
TZOFFSETTO:+0100
TZNAME:CET
DTSTART:20231029T010000
END:STANDARD
BEGIN:DAYLIGHT
TZOFFSETFROM:+0100
TZOFFSETTO:+0200
TZNAME:CEST
DTSTART:20240331T010000
END:DAYLIGHT
BEGIN:STANDARD
TZOFFSETFROM:+0200
TZOFFSETTO:+0100
TZNAME:CET
DTSTART:20241027T010000
END:STANDARD
BEGIN:DAYLIGHT
TZOFFSETFROM:+0100
TZOFFSETTO:+0200
TZNAME:CEST
DTSTART:20250330T010000
END:DAYLIGHT
BEGIN:STANDARD
TZOFFSETFROM:+0200
TZOFFSETTO:+0100
TZNAME:CET
DTSTART:20251026T010000
END:STANDARD
END:VTIMEZONE
BEGIN:VEVENT
DTSTART;TZID=Europe/Berlin:20241202T100000
DTEND;TZID=Europe/Berlin:20241202T110000
DTSTAMP:20260423T211033
CREATED:20241121T210217Z
LAST-MODIFIED:20241121T210218Z
UID:1439-1733133600-1733137200@forstenried.de
SUMMARY:Engelamt der Holzhacker
DESCRIPTION:Die Forstenrieder Holzhacker laden ein zum traditionellen Engelamt in der Kirche Hl. Kreuz.
URL:https://forstenried.de/event/engelamt-der-holzhacker/
LOCATION:Kirche Hl. Kreuz\, Forstenried\, Forstenrieder Allee 180\, München
END:VEVENT
BEGIN:VEVENT
DTSTART;TZID=Europe/Berlin:20241204T160000
DTEND;TZID=Europe/Berlin:20241204T180000
DTSTAMP:20260423T211033
CREATED:20241121T205941Z
LAST-MODIFIED:20241121T205942Z
UID:1437-1733328000-1733335200@forstenried.de
SUMMARY:Fröbelsterne basteln
DESCRIPTION:Für Kinder ab 8 und Erwachsene\, Beitrag: 3 €
URL:https://forstenried.de/event/froebelsterne-basteln/
LOCATION:Nachbarschaftstreff München Süd\, treff + tee\, Forstenrieder Allee 65b\, 81476 München
ORGANIZER;CN="Nachbarschaftstreff M%C3%BCnchen S%C3%BCd%2C treff und tee e.V.":MAILTO:info@treff-und-tee.de
END:VEVENT
BEGIN:VEVENT
DTSTART;TZID=Europe/Berlin:20241206T150000
DTEND;TZID=Europe/Berlin:20241206T163000
DTSTAMP:20260423T211033
CREATED:20241121T203840Z
LAST-MODIFIED:20241121T203951Z
UID:1426-1733497200-1733502600@forstenried.de
SUMMARY:Verkostung am Wildstadl mit Glühwein und Punsch
DESCRIPTION:Der Forstbetrieb München lädt ein zur Verkostung von Produkten aus seinem Wildstadl mit Glühwein und Punsch.Es gibt ausgewählte Produkte aus dem Wildstadl zum Probieren undGlühwein und Kinderpunsch anlässlich des Nikolaus-Tages.Der Verein „Freunde des Forstenrieder Parks e.V.“ informiert über seine Arbeit.
URL:https://forstenried.de/event/verkostung-am-wildstadl-mit-gluehwein-und-punsch/
LOCATION:Forstbetrieb München\, Forstenrieder Allee 182\, 81476 München
END:VEVENT
BEGIN:VEVENT
DTSTART;TZID=Europe/Berlin:20241207T160000
DTEND;TZID=Europe/Berlin:20241207T190000
DTSTAMP:20260423T211033
CREATED:20241121T210929Z
LAST-MODIFIED:20241124T004310Z
UID:1443-1733587200-1733598000@forstenried.de
SUMMARY:Nikolausfeier
DESCRIPTION:Die Freunde des Ortskerns Forstenried und die Feuerwehr München – Abteilung Forstenried laden zur Nikolausfeier ein.\n\n\n\n\n\n\n\nDer Nikolaus bringt Engelchen\, ein großes Feuerwehrauto und einen großen Sack voll Süßigkeiten mit. \n\n\n\nFestliche Blasmusik\, ein offenes Feuer zum Aufwärmen und der Duftvon Kinderpunsch\, Glühwein aber auch von Bratwürsten verbreiten Christkindlmarktatmosphäre und Weihnachtsstimmung. \n\n\n\n\nHier der Flyer mit den detaillierten Angaben zu Ort\, Zeit\, Veranstalter und Ablauf der Feier.
URL:https://forstenried.de/event/nikolausfeier-2/
LOCATION:Dorfkern Forstenried\, hinterm Kriegerdenkmal\, Forstenrieder Allee 184\, München
ATTACH;FMTTYPE=image/jpeg:https://forstenried.de/wp-content/uploads/2024/11/Nikolaus-Forstenried-mTxtm.jpg
END:VEVENT
BEGIN:VEVENT
DTSTART;TZID=Europe/Berlin:20241212T150000
DTEND;TZID=Europe/Berlin:20241212T170000
DTSTAMP:20260423T211033
CREATED:20241121T210503Z
LAST-MODIFIED:20241121T210504Z
UID:1441-1734015600-1734022800@forstenried.de
SUMMARY:Plätzchenbörse
DESCRIPTION:Kommt mit Kostproben eurer Lieblingsplätzchen und bringt auch eure Rezepte mit.Beitrag 3 Euro
URL:https://forstenried.de/event/plaetzchenboerse/
LOCATION:Nachbarschaftstreff München Süd\, treff + tee\, Forstenrieder Allee 65b\, 81476 München
ORGANIZER;CN="Nachbarschaftstreff M%C3%BCnchen S%C3%BCd%2C treff und tee e.V.":MAILTO:info@treff-und-tee.de
END:VEVENT
END:VCALENDAR